BEGIN:VCALENDAR
VERSION:2.0
PRODID:-//Gematsu - ECPv5.16.4//NONSGML v1.0//EN
CALSCALE:GREGORIAN
METHOD:PUBLISH
X-WR-CALNAME:Gematsu
X-ORIGINAL-URL:https://www.gematsu.com
X-WR-CALDESC:Events for Gematsu
BEGIN:VTIMEZONE
TZID:America/New_York
BEGIN:DAYLIGHT
TZOFFSETFROM:-0500
TZOFFSETTO:-0400
TZNAME:EDT
DTSTART:20200308T070000
END:DAYLIGHT
BEGIN:STANDARD
TZOFFSETFROM:-0400
TZOFFSETTO:-0500
TZNAME:EST
DTSTART:20201101T060000
END:STANDARD
END:VTIMEZONE
BEGIN:VEVENT
DTSTART;TZID=America/New_York:20200129T060000
DTEND;TZID=America/New_York:20200129T073000
DTSTAMP:20260421T111830
CREATED:20200123T211724Z
LAST-MODIFIED:20200123T211724Z
UID:306345-1580277600-1580283000@www.gematsu.com
SUMMARY:Sakura Wars Imperial Theater Propaganda Department Report: January 29\, 2020
DESCRIPTION:Sega will host the 11th “Sakura Wars Imperial Theater Propaganda Department Report” official broadcast on January 29 from 20:00 JST to 21:30 JST. It will be live streamed on YouTube and Periscope. \nThe first Imperial Theater Propaganda Department Report following the release of Project Sakura Wars in Japan\, the broadcast will feature “tons of news\,” including new information on both the game and the Shin Sakura Wars the Animation set to begin airing in April. \nThe live stream will feature the following presenters: \nYohei Azakami (Mission Propaganda Department leader / Seijuurou Kamiyama voice actor)Tetsu Katano (Project Sakura Wars producer)Mami Yamashita (assistant MC)
URL:https://www.gematsu.com/event/sakura-wars-imperial-theater-propaganda-department-report-january-29-2020
ATTACH;FMTTYPE=image/jpeg:https://www.gematsu.com/wp-content/uploads/2020/01/Event_Sakura-Wars_01-29-20.jpg
END:VEVENT
END:VCALENDAR